BEGIN:VCALENDAR
VERSION:2.0
PRODID:-// - ECPv6.15.20//NONSGML v1.0//EN
CALSCALE:GREGORIAN
METHOD:PUBLISH
X-ORIGINAL-URL:https://krachgarten-wesel.de
X-WR-CALDESC:Veranstaltungen für 
REFRESH-INTERVAL;VALUE=DURATION:PT1H
X-Robots-Tag:noindex
X-PUBLISHED-TTL:PT1H
BEGIN:VTIMEZONE
TZID:UTC
BEGIN:STANDARD
TZOFFSETFROM:+0000
TZOFFSETTO:+0000
TZNAME:UTC
DTSTART:20250101T000000
END:STANDARD
END:VTIMEZONE
BEGIN:VEVENT
DTSTART;TZID=UTC:20260603T200000
DTEND;TZID=UTC:20260604T020000
DTSTAMP:20260423T121844
CREATED:20260423T012050Z
LAST-MODIFIED:20260423T012050Z
UID:127-1780516800-1780538400@krachgarten-wesel.de
SUMMARY:70/80/90er - Party
DESCRIPTION:Die 70/80/90er-Party bringt die größten Hits aus drei Jahrzehnten auf die Bühne\, eine bunte Zeitreise durch Funk\, Disco\, New Wave und Dance. In lockerer Clubatmosphäre trifft tanzbare Nostalgie auf moderne Beats\, ideal für alle\, die zu bekannten Melodien ausgelassen feiern wollen. \nErleben Sie bekannte Ohrwürmer und Partyklassiker live und in DJ-Sets\, die Stimmung und Erinnerungen gleichermaßen wecken. Die Veranstaltung findet in der Location in Ihrer Stadt statt\, Einlass erfolgt rechtzeitig vor Beginn. \nKommen Sie vorbei\, tanzen Sie die Nacht durch und genießen Sie eine unvergessliche Reise durch die besten Songs der 70er\, 80er und 90er Jahre.
URL:https://krachgarten-wesel.de/event/70-80-90er-party/
LOCATION:Krachgarten Outdoor\, Delogstraße 30\, Wesel\, 46483\, Germany
ATTACH;FMTTYPE=image/jpeg:https://krachgarten-wesel.de/wp-content/uploads/2026/04/70er.jpg
ORGANIZER;CN="Klubhaus Wesel":MAILTO:info@klubhaus-wesel.de
END:VEVENT
BEGIN:VEVENT
DTSTART;TZID=UTC:20260605T190000
DTEND;TZID=UTC:20260605T230000
DTSTAMP:20260423T121844
CREATED:20260423T074843Z
LAST-MODIFIED:20260423T074843Z
UID:132-1780686000-1780700400@krachgarten-wesel.de
SUMMARY:Hickory Cats - Own Style Rock´n´Roll
DESCRIPTION:Druckvoll rockige\, bis jazzig swingende Saxophone Einlagen und markante Riffs aus der Gitarren- und Bassfront garnieren hierbei maßgebend das Klangbild.\nZwar mögen gewisse klangliche Parallelen zu Rockabilly-\, Rock’n’Roll- und Country-Größen wie Brian Setzer\, Johnny Cash\, Eddie Cochran Buddy Holly\, Elvis oder Billy Haley bestehen\, dennoch orientiert sich die Band keinesfalls an diesen.\nVielmehr ist es die gekonnt zelebrierte Eigenkreation „Own Style Rock’n’Roll*\, die\, mit der Mischung diverser Musikrichtungen\, zu Recht nicht in die Schubladen der Musikindustrie passen will. Fest steht\, dass der faszinierende Sound mit dem unverwechselbaren Mix aus Rock’n’Roll\, Jazz\, Blues und Country seinesgleichen sucht.\nNicht zuletzt die durchdachte und abwechslungsreiche Zusammenstellung des Programms machen den Erfolg der Band aus – die Marke Hickory Cats steht seit langem für energiereiche und spannungsgeladene Live-Shows\, die das Publikum neben ausgefallenen Arrangements mit einer heutzutage nicht mehr selbstverständlichen musikalischen Professionalität in ihren Bann zieht.\nOb schnell\, getragen\, düster oder melodisch – in jedem Fall faszinieren die Hickory Cats mit ihrer Musik und ihrem Können.\nEin Fest für Rocker\, ein Erlebnis für Country Freunde und eine Empfehlung für alle\, die dem Rock’n‘ Roll noch nicht verfallen sind.
URL:https://krachgarten-wesel.de/event/hickory-cats-own-style-rocknroll/
LOCATION:Krachgarten Outdoor\, Delogstraße 30\, Wesel\, 46483\, Germany
ATTACH;FMTTYPE=image/jpeg:https://krachgarten-wesel.de/wp-content/uploads/2026/04/IMG_6743.jpg
ORGANIZER;CN="Klubhaus Wesel":MAILTO:info@klubhaus-wesel.de
END:VEVENT
BEGIN:VEVENT
DTSTART;VALUE=DATE:20260626
DTEND;VALUE=DATE:20260627
DTSTAMP:20260423T121844
CREATED:20260423T083109Z
LAST-MODIFIED:20260423T083109Z
UID:143-1782432000-1782518399@krachgarten-wesel.de
SUMMARY:Geschlossene Gesellschaft
DESCRIPTION:Der Krachgarten ist an diesem Termin vermietet. Anfragen und Infos unter: 01590/1788288
URL:https://krachgarten-wesel.de/event/geschlossene-gesellschaft-4/
ATTACH;FMTTYPE=image/png:https://krachgarten-wesel.de/wp-content/uploads/2026/04/Gemini_Generated_Image_ii3kraii3kraii3k.png
END:VEVENT
BEGIN:VEVENT
DTSTART;TZID=UTC:20260702T180000
DTEND;TZID=UTC:20260702T230000
DTSTAMP:20260423T121844
CREATED:20260423T114323Z
LAST-MODIFIED:20260423T114323Z
UID:185-1783015200-1783033200@krachgarten-wesel.de
SUMMARY:Weseler Bluestage - Henrik Freischlader
DESCRIPTION:Henrik Freischlader gilt bis heute als Geheimtipp für alle\, die noch nie von ihm gehört haben. \nDer deutsche Gitarrist und Sänger teilte die Bühnen mit B.B. King\, Gary Moore\, Peter Green\, Johnny Winter\, Joe Bonamassa und der Tedeschi Trucks Band und ist nach zahlreichen europaweiten Tourneen aus der internationalen Bluesszene nicht mehr wegzudenken. \nSein virtuoses und leidenschaftliches Gitarrenspiel\, seine raue markante Stimme und ein Gespür für gute Grooves haben über die Jahre seinen unverwechselbaren Stil geprägt. \n11 Studioalben und 7 Livealben hat der Multiinstrumentalist seit 2006 veröffentlicht\, und es ist fast immer ein neues Album auf seinem Label Cable Car Records in Planung.
URL:https://krachgarten-wesel.de/event/weseler-bluestage-henrik-freischlader/
LOCATION:Krachgarten Outdoor\, Delogstraße 30\, Wesel\, 46483\, Germany
ATTACH;FMTTYPE=image/jpeg:https://krachgarten-wesel.de/wp-content/uploads/2026/04/IMG_6636.jpg
ORGANIZER;CN="Klubhaus Wesel":MAILTO:info@klubhaus-wesel.de
END:VEVENT
BEGIN:VEVENT
DTSTART;TZID=UTC:20260703T180000
DTEND;TZID=UTC:20260703T230000
DTSTAMP:20260423T121844
CREATED:20260423T114804Z
LAST-MODIFIED:20260423T121027Z
UID:187-1783101600-1783119600@krachgarten-wesel.de
SUMMARY:Weseler Bluestage - Julian Sas (NL)
DESCRIPTION:Das neue JULIAN SAS-Album ‘MILES AND MEMORIES’ markiert die Rückkehr des Gitarrenhelden zu seiner Lieblingsband Besetzung – dem klassischen Blues-Rock-Trio – Gesang/Gitarre\, Bass und Schlagzeug. In diesem Fall liegt der Schwerpunkt mehr auf dem Rock und etwas weniger auf dem Blues.. Julian Sas: ein Rückblick auf 32 Jahre meines Lebens auf Tour; Jammen und Musik machen. Es fühlte sich gut an mit einer neuen dreiköpfi gen Band\, anderen Einfl üssen\, neuen Grenzen\, die es zu überschreiten galt\, und wirklich frei beim Spielen. Wir kehrten zurück zu einem klassischen Blues-Rock-Trio! So wie ich vor Jahren angefangen habe. Es fühlte sich an\, als ich nach Hause kam. Die Energie\, der Rock &; Roll\, der Blues. 32 Jahre als nicht-kommerzielle BLUES-ROCK-Band machen mich stolz! Wir standen oft am ‘Crossroads’\, haben aber nie unsere Seelen verkauft. Und das machen wir nie. Das müssen wir nicht… Das wollen wir nicht… das Einzige\, Was zählt und immer noch zählt\, ist die Musik! Nichts anderes zählt… Ende 1994 gründete der junge Julian Sas seine eigene Band und machte sich schnell einen Namen als unverzichtbarer Live-Act und als einer der besten Blues Rock Gitarristen Europas. Jetzt\, 32 Jahre später\, ist Julian Sas ein etablierter und bewunderter Gitarrenheld mit einer großen Anhängerschaft treuer Fans auf der ganzen Welt. Von den Benelux-Ländern bis in die USA\, von Deutschland bis Brasilien! und weiter! \nSupport: The Groove Counts
URL:https://krachgarten-wesel.de/event/weseler-bluestage-julian-sas/
LOCATION:Krachgarten Outdoor\, Delogstraße 30\, Wesel\, 46483\, Germany
ATTACH;FMTTYPE=image/jpeg:https://krachgarten-wesel.de/wp-content/uploads/2026/04/IMG_6107.jpg
ORGANIZER;CN="Klubhaus Wesel":MAILTO:info@klubhaus-wesel.de
END:VEVENT
BEGIN:VEVENT
DTSTART;TZID=UTC:20260704T180000
DTEND;TZID=UTC:20260704T230000
DTSTAMP:20260423T121844
CREATED:20260423T120915Z
LAST-MODIFIED:20260423T120941Z
UID:193-1783188000-1783206000@krachgarten-wesel.de
SUMMARY:Weseler Bluestage - Leif de Leuuw Band (NL)
DESCRIPTION:Inzwischen hat das Magazin ‘De Gitarist’ Leif de Leeuw zum 6. Mal als Besten Blues Rock Gitarristen der Benelux-Staaten gewählt\, der Sänger Sem Jansen hat bei der Holländischen TV-Show ‘Hit the Road’ gewonnen und das neue Album ‘Where we’re heading’ bekommt beste Bewertungen. Der Multi Award Gewinner Gitarrist Leif de Leeuw und seine sechsköpfige Band sind die absolute Southern Jam-Band Sensation in Europa\, die mit 2 groovenden Schlagzeugern einen vollen Sound entwickeln. Die Band besticht mit ihren  atemberaubenden Gitarrensoli\, wobei improvisierte Jams jede Show einzigartig machen. \nSupport: Mikel Bluni Trio
URL:https://krachgarten-wesel.de/event/weseler-bluestage-leif-de-leuuw-band-nl/
LOCATION:Krachgarten Outdoor\, Delogstraße 30\, Wesel\, 46483\, Germany
ATTACH;FMTTYPE=image/webp:https://krachgarten-wesel.de/wp-content/uploads/2026/04/csm_Leif_de_Leeuw_Band_c17ac39eaf.webp
ORGANIZER;CN="Klubhaus Wesel":MAILTO:info@klubhaus-wesel.de
END:VEVENT
BEGIN:VEVENT
DTSTART;VALUE=DATE:20260710
DTEND;VALUE=DATE:20260711
DTSTAMP:20260423T121844
CREATED:20260423T083207Z
LAST-MODIFIED:20260423T083207Z
UID:145-1783641600-1783727999@krachgarten-wesel.de
SUMMARY:Geschlossene Gesellschaft
DESCRIPTION:Der Krachgarten ist an diesem Termin vermietet. Anfragen und Infos unter: 01590/1788288
URL:https://krachgarten-wesel.de/event/geschlossene-gesellschaft-5/
ATTACH;FMTTYPE=image/png:https://krachgarten-wesel.de/wp-content/uploads/2026/04/Gemini_Generated_Image_ii3kraii3kraii3k.png
END:VEVENT
BEGIN:VEVENT
DTSTART;TZID=UTC:20260808T200000
DTEND;TZID=UTC:20260809T020000
DTSTAMP:20260423T121844
CREATED:20260423T114144Z
LAST-MODIFIED:20260423T114144Z
UID:183-1786219200-1786240800@krachgarten-wesel.de
SUMMARY:Alles Schlager - Party
DESCRIPTION:Alles Schlager bringt die größten Stimmungshits des Genres an einem Abend zusammen. Das abwechslungsreiche Programm feiert eingängige Melodien\, tanzbare Rhythmen und vertraute Refrains\, die zum Mitsingen einladen. \nKommen Sie vorbei\, genießen Sie einen unterhaltsamen Abend und lassen Sie sich von eingängigen Songs und einer mitreißenden Atmosphäre mitreißen.
URL:https://krachgarten-wesel.de/event/alles-schlager-party/
LOCATION:Krachgarten Outdoor\, Delogstraße 30\, Wesel\, 46483\, Germany
ATTACH;FMTTYPE=image/png:https://krachgarten-wesel.de/wp-content/uploads/2026/04/CC2D61DD-B668-4AD6-B6DD-736E069D2A88.png
ORGANIZER;CN="Klubhaus Wesel":MAILTO:info@klubhaus-wesel.de
END:VEVENT
BEGIN:VEVENT
DTSTART;VALUE=DATE:20260815
DTEND;VALUE=DATE:20260816
DTSTAMP:20260423T121844
CREATED:20260423T111057Z
LAST-MODIFIED:20260423T111057Z
UID:148-1786752000-1786838399@krachgarten-wesel.de
SUMMARY:Geschlossene Gesellschaft
DESCRIPTION:Der Krachgarten ist an diesem Termin vermietet. Anfragen und Infos unter: 01590/1788288
URL:https://krachgarten-wesel.de/event/geschlossene-gesellschaft-6/
ATTACH;FMTTYPE=image/png:https://krachgarten-wesel.de/wp-content/uploads/2026/04/Gemini_Generated_Image_ii3kraii3kraii3k.png
END:VEVENT
BEGIN:VEVENT
DTSTART;VALUE=DATE:20260822
DTEND;VALUE=DATE:20260823
DTSTAMP:20260423T121844
CREATED:20260423T111159Z
LAST-MODIFIED:20260423T111159Z
UID:150-1787356800-1787443199@krachgarten-wesel.de
SUMMARY:Geschlossene Gesellschaft
DESCRIPTION:Der Krachgarten ist an diesem Termin vermietet. Anfragen und Infos unter: 01590/1788288
URL:https://krachgarten-wesel.de/event/geschlossene-gesellschaft-7/
ATTACH;FMTTYPE=image/png:https://krachgarten-wesel.de/wp-content/uploads/2026/04/Gemini_Generated_Image_ii3kraii3kraii3k.png
END:VEVENT
BEGIN:VEVENT
DTSTART;VALUE=DATE:20260829
DTEND;VALUE=DATE:20260830
DTSTAMP:20260423T121844
CREATED:20260423T111624Z
LAST-MODIFIED:20260423T111624Z
UID:152-1787961600-1788047999@krachgarten-wesel.de
SUMMARY:Geschlossene Gesellschaft
DESCRIPTION:Der Krachgarten ist an diesem Termin vermietet. Anfragen und Infos unter: 01590/1788288
URL:https://krachgarten-wesel.de/event/geschlossene-gesellschaft-8/
ATTACH;FMTTYPE=image/png:https://krachgarten-wesel.de/wp-content/uploads/2026/04/Gemini_Generated_Image_ii3kraii3kraii3k.png
END:VEVENT
BEGIN:VEVENT
DTSTART;VALUE=DATE:20261002
DTEND;VALUE=DATE:20261003
DTSTAMP:20260423T121844
CREATED:20260423T112123Z
LAST-MODIFIED:20260423T112123Z
UID:154-1790899200-1790985599@krachgarten-wesel.de
SUMMARY:Geschlossene Gesellschaft
DESCRIPTION:Der Krachgarten ist an diesem Termin vermietet. Anfragen und Infos unter: 01590/1788288
URL:https://krachgarten-wesel.de/event/geschlossene-gesellschaft-9/
ATTACH;FMTTYPE=image/png:https://krachgarten-wesel.de/wp-content/uploads/2026/04/Gemini_Generated_Image_ii3kraii3kraii3k.png
END:VEVENT
BEGIN:VEVENT
DTSTART;VALUE=DATE:20261010
DTEND;VALUE=DATE:20261011
DTSTAMP:20260423T121844
CREATED:20260423T112203Z
LAST-MODIFIED:20260423T112203Z
UID:156-1791590400-1791676799@krachgarten-wesel.de
SUMMARY:Geschlossene Gesellschaft
DESCRIPTION:Der Krachgarten ist an diesem Termin vermietet. Anfragen und Infos unter: 01590/1788288
URL:https://krachgarten-wesel.de/event/geschlossene-gesellschaft-10/
ATTACH;FMTTYPE=image/png:https://krachgarten-wesel.de/wp-content/uploads/2026/04/Gemini_Generated_Image_ii3kraii3kraii3k.png
END:VEVENT
BEGIN:VEVENT
DTSTART;VALUE=DATE:20261024
DTEND;VALUE=DATE:20261025
DTSTAMP:20260423T121844
CREATED:20260423T112442Z
LAST-MODIFIED:20260423T112442Z
UID:158-1792800000-1792886399@krachgarten-wesel.de
SUMMARY:Geschlossene Gesellschaft
DESCRIPTION:Der Krachgarten ist an diesem Termin vermietet. Anfragen und Infos unter: 01590/1788288
URL:https://krachgarten-wesel.de/event/geschlossene-gesellschaft-11/
ATTACH;FMTTYPE=image/png:https://krachgarten-wesel.de/wp-content/uploads/2026/04/Gemini_Generated_Image_ii3kraii3kraii3k.png
END:VEVENT
BEGIN:VEVENT
DTSTART;VALUE=DATE:20261024
DTEND;VALUE=DATE:20261025
DTSTAMP:20260423T121844
CREATED:20260423T112520Z
LAST-MODIFIED:20260423T112520Z
UID:160-1792800000-1792886399@krachgarten-wesel.de
SUMMARY:Geschlossene Gesellschaft
DESCRIPTION:Der Krachgarten ist an diesem Termin vermietet. Anfragen und Infos unter: 01590/1788288
URL:https://krachgarten-wesel.de/event/geschlossene-gesellschaft-12/
ATTACH;FMTTYPE=image/png:https://krachgarten-wesel.de/wp-content/uploads/2026/04/Gemini_Generated_Image_ii3kraii3kraii3k.png
END:VEVENT
BEGIN:VEVENT
DTSTART;VALUE=DATE:20261106
DTEND;VALUE=DATE:20261107
DTSTAMP:20260423T121844
CREATED:20260423T112558Z
LAST-MODIFIED:20260423T112558Z
UID:162-1793923200-1794009599@krachgarten-wesel.de
SUMMARY:Geschlossene Gesellschaft
DESCRIPTION:Der Krachgarten ist an diesem Termin vermietet. Anfragen und Infos unter: 01590/1788288
URL:https://krachgarten-wesel.de/event/geschlossene-gesellschaft-13/
ATTACH;FMTTYPE=image/png:https://krachgarten-wesel.de/wp-content/uploads/2026/04/Gemini_Generated_Image_ii3kraii3kraii3k.png
END:VEVENT
BEGIN:VEVENT
DTSTART;VALUE=DATE:20261121
DTEND;VALUE=DATE:20261122
DTSTAMP:20260423T121844
CREATED:20260423T112643Z
LAST-MODIFIED:20260423T112643Z
UID:164-1795219200-1795305599@krachgarten-wesel.de
SUMMARY:Geschlossene Gesellschaft
DESCRIPTION:Der Krachgarten ist an diesem Termin vermietet. Anfragen und Infos unter: 01590/1788288
URL:https://krachgarten-wesel.de/event/geschlossene-gesellschaft-14/
ATTACH;FMTTYPE=image/png:https://krachgarten-wesel.de/wp-content/uploads/2026/04/Gemini_Generated_Image_ii3kraii3kraii3k.png
END:VEVENT
END:VCALENDAR