BEGIN:VCALENDAR
VERSION:2.0
PRODID:-// - ECPv6.15.20//NONSGML v1.0//EN
CALSCALE:GREGORIAN
METHOD:PUBLISH
X-ORIGINAL-URL:https://krachgarten-wesel.de
X-WR-CALDESC:Veranstaltungen für 
REFRESH-INTERVAL;VALUE=DURATION:PT1H
X-Robots-Tag:noindex
X-PUBLISHED-TTL:PT1H
BEGIN:VTIMEZONE
TZID:UTC
BEGIN:STANDARD
TZOFFSETFROM:+0000
TZOFFSETTO:+0000
TZNAME:UTC
DTSTART:20250101T000000
END:STANDARD
END:VTIMEZONE
BEGIN:VEVENT
DTSTART;TZID=UTC:20260424T200000
DTEND;TZID=UTC:20260425T010000
DTSTAMP:20260423T104603
CREATED:20260423T001329Z
LAST-MODIFIED:20260423T001412Z
UID:103-1777060800-1777078800@krachgarten-wesel.de
SUMMARY:Karaoke Night by Klubhaus
DESCRIPTION:KARAOKE-NACHT IM KRACHGARTEN WESEL\nDu liebst es zu singen – oder einfach nur mitzufeiern?Dann komm vorbei zur Karaoke-Nacht im Krachgarten Wesel!\n Freitag\, 24.04.2026 Start: 20:00 Uhr Krachgarten Wesel Eintritt frei\nEgal ob Rockklassiker\, Pop-Hits oder heimliche Lieblingssongs – das Mikro gehört dir!Bring deine Freunde mit\, such dir deinen Song aus und mach die Bühne zu deiner eigenen.Gute Stimmung\, kalte Getränke und jede Menge Spaß sind garantiert.\n Singen. Feiern. Spaß haben. Wir freuen uns auf euch!
URL:https://krachgarten-wesel.de/event/karaoke-night-by-klubhaus/
LOCATION:Krachgarten Indoor\, Delogstraße 30\, Wesel\, 46483\, Germany
ATTACH;FMTTYPE=image/png:https://krachgarten-wesel.de/wp-content/uploads/2026/04/A9A37385-85AA-459E-A5CF-57021C96ADBB.png
ORGANIZER;CN="Klubhaus Wesel":MAILTO:info@klubhaus-wesel.de
END:VEVENT
BEGIN:VEVENT
DTSTART;TZID=UTC:20260426T110000
DTEND;TZID=UTC:20260426T170000
DTSTAMP:20260423T104603
CREATED:20260422T220646Z
LAST-MODIFIED:20260422T224416Z
UID:31-1777201200-1777222800@krachgarten-wesel.de
SUMMARY:Creeping Fox - Sonntags-Frühschoppen
DESCRIPTION:Creeping Fox kommen aus Duisburg zu uns und haben coolen Cover-Rock\, Progressive\, Metal\, im Gepäck. Sie erfreuen euch mit Songs von Volbeat\, Muse\, Judas Priest und andren Krachern.
URL:https://krachgarten-wesel.de/event/creeping-fox-sonntag-fruehschoppen/
LOCATION:Krachgarten Indoor\, Delogstraße 30\, Wesel\, 46483\, Germany
ATTACH;FMTTYPE=image/avif:https://krachgarten-wesel.de/wp-content/uploads/2026/04/8cde59_329537190de047fd8ef8de83c6cc9a63mv2.avif
END:VEVENT
BEGIN:VEVENT
DTSTART;TZID=UTC:20260430T180000
DTEND;TZID=UTC:20260430T230000
DTSTAMP:20260423T104603
CREATED:20260422T224916Z
LAST-MODIFIED:20260422T231130Z
UID:60-1777572000-1777590000@krachgarten-wesel.de
SUMMARY:Mairöckchen 2026
DESCRIPTION:Mairöckchen 2026 am 30.04.2026 \nTICKETS \nFür alle ab 16 Jahren. \nEinlass: 18:00 Uhr\nBeginn: 19:00 Uhr\nEnde: 23:00 Uhr\n \nTickets gibt es demnächst bei Ticket.io: \nVVK: 15 €  AK: 20 € \n \nTickets unter: \nhttps://krachgartenkultur.ticket.io/C8txvZuh/ \n \nRegeln: \n1. Taschen maximal in einer Größe von DIN A4. \n2. Keine Spiegelreflexkameras zugelassen. Fotografieren sonst nur mit Mobiltelefonen erlaubt. Nur vorab akkreditierte Fotografen. \n3. Keine Komplettmitschnitte der Konzerte. \n4. Den Aufforderungen der Krachgarten Kultur Crew sowie der Security ist Folge zu leisten. \n5. Kein Mitbringen von Speisen und Getränken. \n6. Keine Drogen auf dem Gelände. \n7. Keine Tiere. \n8. Wir dulden keine physischen und psychischen Übergriffe.
URL:https://krachgarten-wesel.de/event/mairoeckchen-2026/
LOCATION:Krachgarten Outdoor\, Delogstraße 30\, Wesel\, 46483\, Germany
ATTACH;FMTTYPE=image/avif:https://krachgarten-wesel.de/wp-content/uploads/2026/04/KG_Instagramm_1366x768_hoch_Mairoeckchen_.avif
END:VEVENT
BEGIN:VEVENT
DTSTART;VALUE=DATE:20260502
DTEND;VALUE=DATE:20260503
DTSTAMP:20260423T104603
CREATED:20260423T082130Z
LAST-MODIFIED:20260423T082130Z
UID:135-1777680000-1777766399@krachgarten-wesel.de
SUMMARY:Geschlossene Gesellschaft
DESCRIPTION:Der Krachgarten ist an diesem Termin vermietet. Anfragen und Infos unter: 01590/1788288
URL:https://krachgarten-wesel.de/event/geschlossene-gesellschaft/
LOCATION:Krachgarten Outdoor\, Delogstraße 30\, Wesel\, 46483\, Germany
ATTACH;FMTTYPE=image/png:https://krachgarten-wesel.de/wp-content/uploads/2026/04/Gemini_Generated_Image_ii3kraii3kraii3k.png
END:VEVENT
BEGIN:VEVENT
DTSTART;TZID=UTC:20260503T110000
DTEND;TZID=UTC:20260503T160000
DTSTAMP:20260423T104603
CREATED:20260423T005803Z
LAST-MODIFIED:20260423T005824Z
UID:111-1777806000-1777824000@krachgarten-wesel.de
SUMMARY:Gigi Homerecording - Sonntags-Frühschoppen
DESCRIPTION:Die Band ist ein deutschsprachiges Musikprojekt\, welches in diesem Jahr sein 20-jähriges Bestehen feiert. Ihr Musik bezeichnen sie als Stadionrock ohne Stadion und Pop zum Liebhaben. Sie kommen aus Köln\, im Gepäck Songs von ihrer aktuellen CD „Karussell der Liebe“.
URL:https://krachgarten-wesel.de/event/gigi-homerecording-sonntags-fruehschoppen/
LOCATION:Krachgarten Outdoor\, Delogstraße 30\, Wesel\, 46483\, Germany
ATTACH;FMTTYPE=image/avif:https://krachgarten-wesel.de/wp-content/uploads/2026/04/8cde59_4b9235e1598b4d30b9a103ec74f2b313mv2.avif
END:VEVENT
BEGIN:VEVENT
DTSTART;TZID=UTC:20260510T110000
DTEND;TZID=UTC:20260510T160000
DTSTAMP:20260423T104603
CREATED:20260423T010231Z
LAST-MODIFIED:20260423T010231Z
UID:115-1778410800-1778428800@krachgarten-wesel.de
SUMMARY:The Great Faults - Sonntags-Frühschoppen
DESCRIPTION:Sie kommen wieder und sie haben ein neues Album im Gepäck. Die Rede ist von The Grait Faults aus Mülheim a. d. R. Die beiden haben wieder super Texte und coole Musik im Gepäck\, mit und ohne großartige Fehler.
URL:https://krachgarten-wesel.de/event/the-great-faults-sonntags-fruehschoppen/
LOCATION:Krachgarten Outdoor\, Delogstraße 30\, Wesel\, 46483\, Germany
ATTACH;FMTTYPE=image/avif:https://krachgarten-wesel.de/wp-content/uploads/2026/04/8cde59_096ea6e5c52847d696f4a56682fcaf34mv2.avif
END:VEVENT
BEGIN:VEVENT
DTSTART;VALUE=DATE:20260513
DTEND;VALUE=DATE:20260514
DTSTAMP:20260423T104603
CREATED:20260423T082450Z
LAST-MODIFIED:20260423T082450Z
UID:139-1778630400-1778716799@krachgarten-wesel.de
SUMMARY:Geschlossene Gesellschaft
DESCRIPTION:Der Krachgarten ist an diesem Termin vermietet. Anfragen und Infos unter: 01590/1788288
URL:https://krachgarten-wesel.de/event/geschlossene-gesellschaft-2/
LOCATION:Krachgarten Outdoor\, Delogstraße 30\, Wesel\, 46483\, Germany
ATTACH;FMTTYPE=image/png:https://krachgarten-wesel.de/wp-content/uploads/2026/04/Gemini_Generated_Image_ii3kraii3kraii3k.png
END:VEVENT
BEGIN:VEVENT
DTSTART;TZID=UTC:20260517T110000
DTEND;TZID=UTC:20260517T160000
DTSTAMP:20260423T104603
CREATED:20260423T010651Z
LAST-MODIFIED:20260423T010651Z
UID:118-1779015600-1779033600@krachgarten-wesel.de
SUMMARY:Duo 2You - Sonntags-Frühschoppen
DESCRIPTION:Was will man zum in Wesel bekannten Duo 2You noch sagen? Ein Mann\, seine Gitarre\, eine Frau und ihre unerhört einzigartige Stimme. Walter und Jutta begeistern immer wieder\, egal\, wo sie auftreten. Ihr Spektrum ist breit gefächert\, mal Reggae\, mal Pop\, aber immer mit Liebe zu handgemachter Musik.
URL:https://krachgarten-wesel.de/event/duo-2you-sonntags-fruehschoppen/
LOCATION:Krachgarten Outdoor\, Delogstraße 30\, Wesel\, 46483\, Germany
ATTACH;FMTTYPE=image/avif:https://krachgarten-wesel.de/wp-content/uploads/2026/04/8cde59_ad28adcff08245dd934d9b766757c622mv2.avif
END:VEVENT
BEGIN:VEVENT
DTSTART;TZID=UTC:20260518T193000
DTEND;TZID=UTC:20260518T230000
DTSTAMP:20260423T104603
CREATED:20260422T225830Z
LAST-MODIFIED:20260422T225935Z
UID:64-1779132600-1779145200@krachgarten-wesel.de
SUMMARY:The Great Crusades
DESCRIPTION:Seit über 20 Jahren gibt es die Great Crusades als international anerkanntes US-amerikanisches Quartett\, das seinen Fans als arrivierter\, begeisternder Live-Act\, immer im feinen Zwirn\, bei mehr als 20 () Reisen über den Atlantik so außerordentliche Freude bereitet hat. \nDie Great Crusades haben den Ruf\, sich live buchstlich die Seele aus dem Leib zu rocken. Im letzten Vierteljahrhundert sind die vier Herren aus Chicago\, Illinois\, seit 1997 auf den Buhnen dieser Welt zu Gange. \nEs fallen die seltsamsten jemals zu musikalischen Vergleichen herangezogenen Namen\, wenn die Presse uber die Great Crusades zu schwärmen beginnt: Bruce Springsteen\, Thin White Rope\, Axl Rose\, Nick Cave\, Tindersticks und immer und überall Tom Waits. Und verdammt\, das stimmt. Irgendwie.
URL:https://krachgarten-wesel.de/event/the-great-crusades/
LOCATION:Krachgarten Indoor\, Delogstraße 30\, Wesel\, 46483\, Germany
ATTACH;FMTTYPE=image/jpeg:https://krachgarten-wesel.de/wp-content/uploads/2026/04/bild_thegreatcrusades100_v-ARDFotogalerie.jpg
ORGANIZER;CN="Klubhaus Wesel":MAILTO:info@klubhaus-wesel.de
END:VEVENT
BEGIN:VEVENT
DTSTART;TZID=UTC:20260524T110000
DTEND;TZID=UTC:20260524T160000
DTSTAMP:20260423T104603
CREATED:20260423T010907Z
LAST-MODIFIED:20260423T010907Z
UID:121-1779620400-1779638400@krachgarten-wesel.de
SUMMARY:Eddy Edge - Sonntags-Frühschoppen
DESCRIPTION:Als Ersatz für Apollo Universe\, die aus Krankheitsgründen nicht anreisen können\, bieten wir Eddy Edge aus Köln eine Bühne. Eddy hat sich mit seiner Band dem Punk verschrieben\, kommt allerdings solo zu uns. Im Gepäck hat der Brite sein erstes Album auf deutsch. Dazu kommen ausgewählte Coversongs.
URL:https://krachgarten-wesel.de/event/eddy-edge-sonntags-fruehschoppen/
LOCATION:Krachgarten Outdoor\, Delogstraße 30\, Wesel\, 46483\, Germany
ATTACH;FMTTYPE=image/avif:https://krachgarten-wesel.de/wp-content/uploads/2026/04/8cde59_1f9ef971e1b04a48a3a4835094bab894mv2.avif
END:VEVENT
BEGIN:VEVENT
DTSTART;VALUE=DATE:20260529
DTEND;VALUE=DATE:20260530
DTSTAMP:20260423T104603
CREATED:20260423T082533Z
LAST-MODIFIED:20260423T082533Z
UID:141-1780012800-1780099199@krachgarten-wesel.de
SUMMARY:Geschlossene Gesellschaft
DESCRIPTION:Der Krachgarten ist an diesem Termin vermietet. Anfragen und Infos unter: 01590/1788288
URL:https://krachgarten-wesel.de/event/geschlossene-gesellschaft-3/
ATTACH;FMTTYPE=image/png:https://krachgarten-wesel.de/wp-content/uploads/2026/04/Gemini_Generated_Image_ii3kraii3kraii3k.png
END:VEVENT
BEGIN:VEVENT
DTSTART;TZID=UTC:20260531T110000
DTEND;TZID=UTC:20260531T160000
DTSTAMP:20260423T104603
CREATED:20260423T011305Z
LAST-MODIFIED:20260423T011305Z
UID:124-1780225200-1780243200@krachgarten-wesel.de
SUMMARY:The Groove Counts - Sonntags-Frühschoppen
DESCRIPTION:Mit dem Trio rund um Frank Schut verbringen wir einen angenehmen Sonntag Mittag mit Blues & more.
URL:https://krachgarten-wesel.de/event/the-groove-counts-sonntags-fruehschoppen/
LOCATION:Krachgarten Outdoor\, Delogstraße 30\, Wesel\, 46483\, Germany
ATTACH;FMTTYPE=image/avif:https://krachgarten-wesel.de/wp-content/uploads/2026/04/8cde59_e4756f06d9f344cf9d9a105bdad3de14mv2.avif
END:VEVENT
BEGIN:VEVENT
DTSTART;TZID=UTC:20260603T200000
DTEND;TZID=UTC:20260604T020000
DTSTAMP:20260423T104603
CREATED:20260423T012050Z
LAST-MODIFIED:20260423T012050Z
UID:127-1780516800-1780538400@krachgarten-wesel.de
SUMMARY:70/80/90er - Party
DESCRIPTION:Die 70/80/90er-Party bringt die größten Hits aus drei Jahrzehnten auf die Bühne\, eine bunte Zeitreise durch Funk\, Disco\, New Wave und Dance. In lockerer Clubatmosphäre trifft tanzbare Nostalgie auf moderne Beats\, ideal für alle\, die zu bekannten Melodien ausgelassen feiern wollen. \nErleben Sie bekannte Ohrwürmer und Partyklassiker live und in DJ-Sets\, die Stimmung und Erinnerungen gleichermaßen wecken. Die Veranstaltung findet in der Location in Ihrer Stadt statt\, Einlass erfolgt rechtzeitig vor Beginn. \nKommen Sie vorbei\, tanzen Sie die Nacht durch und genießen Sie eine unvergessliche Reise durch die besten Songs der 70er\, 80er und 90er Jahre.
URL:https://krachgarten-wesel.de/event/70-80-90er-party/
LOCATION:Krachgarten Outdoor\, Delogstraße 30\, Wesel\, 46483\, Germany
ATTACH;FMTTYPE=image/jpeg:https://krachgarten-wesel.de/wp-content/uploads/2026/04/70er.jpg
ORGANIZER;CN="Klubhaus Wesel":MAILTO:info@klubhaus-wesel.de
END:VEVENT
BEGIN:VEVENT
DTSTART;TZID=UTC:20260605T190000
DTEND;TZID=UTC:20260605T230000
DTSTAMP:20260423T104603
CREATED:20260423T074843Z
LAST-MODIFIED:20260423T074843Z
UID:132-1780686000-1780700400@krachgarten-wesel.de
SUMMARY:Hickory Cats - Own Style Rock´n´Roll
DESCRIPTION:Druckvoll rockige\, bis jazzig swingende Saxophone Einlagen und markante Riffs aus der Gitarren- und Bassfront garnieren hierbei maßgebend das Klangbild.\nZwar mögen gewisse klangliche Parallelen zu Rockabilly-\, Rock’n’Roll- und Country-Größen wie Brian Setzer\, Johnny Cash\, Eddie Cochran Buddy Holly\, Elvis oder Billy Haley bestehen\, dennoch orientiert sich die Band keinesfalls an diesen.\nVielmehr ist es die gekonnt zelebrierte Eigenkreation „Own Style Rock’n’Roll*\, die\, mit der Mischung diverser Musikrichtungen\, zu Recht nicht in die Schubladen der Musikindustrie passen will. Fest steht\, dass der faszinierende Sound mit dem unverwechselbaren Mix aus Rock’n’Roll\, Jazz\, Blues und Country seinesgleichen sucht.\nNicht zuletzt die durchdachte und abwechslungsreiche Zusammenstellung des Programms machen den Erfolg der Band aus – die Marke Hickory Cats steht seit langem für energiereiche und spannungsgeladene Live-Shows\, die das Publikum neben ausgefallenen Arrangements mit einer heutzutage nicht mehr selbstverständlichen musikalischen Professionalität in ihren Bann zieht.\nOb schnell\, getragen\, düster oder melodisch – in jedem Fall faszinieren die Hickory Cats mit ihrer Musik und ihrem Können.\nEin Fest für Rocker\, ein Erlebnis für Country Freunde und eine Empfehlung für alle\, die dem Rock’n‘ Roll noch nicht verfallen sind.
URL:https://krachgarten-wesel.de/event/hickory-cats-own-style-rocknroll/
LOCATION:Krachgarten Outdoor\, Delogstraße 30\, Wesel\, 46483\, Germany
ATTACH;FMTTYPE=image/jpeg:https://krachgarten-wesel.de/wp-content/uploads/2026/04/IMG_6743.jpg
ORGANIZER;CN="Klubhaus Wesel":MAILTO:info@klubhaus-wesel.de
END:VEVENT
BEGIN:VEVENT
DTSTART;VALUE=DATE:20260626
DTEND;VALUE=DATE:20260627
DTSTAMP:20260423T104603
CREATED:20260423T083109Z
LAST-MODIFIED:20260423T083109Z
UID:143-1782432000-1782518399@krachgarten-wesel.de
SUMMARY:Geschlossene Gesellschaft
DESCRIPTION:Der Krachgarten ist an diesem Termin vermietet. Anfragen und Infos unter: 01590/1788288
URL:https://krachgarten-wesel.de/event/geschlossene-gesellschaft-4/
ATTACH;FMTTYPE=image/png:https://krachgarten-wesel.de/wp-content/uploads/2026/04/Gemini_Generated_Image_ii3kraii3kraii3k.png
END:VEVENT
BEGIN:VEVENT
DTSTART;VALUE=DATE:20260710
DTEND;VALUE=DATE:20260711
DTSTAMP:20260423T104603
CREATED:20260423T083207Z
LAST-MODIFIED:20260423T083207Z
UID:145-1783641600-1783727999@krachgarten-wesel.de
SUMMARY:Geschlossene Gesellschaft
DESCRIPTION:Der Krachgarten ist an diesem Termin vermietet. Anfragen und Infos unter: 01590/1788288
URL:https://krachgarten-wesel.de/event/geschlossene-gesellschaft-5/
ATTACH;FMTTYPE=image/png:https://krachgarten-wesel.de/wp-content/uploads/2026/04/Gemini_Generated_Image_ii3kraii3kraii3k.png
END:VEVENT
END:VCALENDAR